BEGIN:VCALENDAR
VERSION:2.0
PRODID:-//Carlos Dominguez clases profesionales de guitarra para particulares, grupos y Online - ECPv6.0.4//NONSGML v1.0//EN
CALSCALE:GREGORIAN
METHOD:PUBLISH
X-ORIGINAL-URL:https://carlosdominguezmusic.com
X-WR-CALDESC:Eventos para Carlos Dominguez clases profesionales de guitarra para particulares, grupos y Online
REFRESH-INTERVAL;VALUE=DURATION:PT1H
X-Robots-Tag:noindex
X-PUBLISHED-TTL:PT1H
BEGIN:VTIMEZONE
TZID:UTC
BEGIN:STANDARD
TZOFFSETFROM:+0000
TZOFFSETTO:+0000
TZNAME:UTC
DTSTART:20210101T000000
END:STANDARD
END:VTIMEZONE
BEGIN:VEVENT
DTSTART;TZID=UTC:20211006T180000
DTEND;TZID=UTC:20211006T190000
DTSTAMP:20260426T040157
CREATED:20210728T063142Z
LAST-MODIFIED:20210926T180849Z
UID:1524-1633543200-1633546800@carlosdominguezmusic.com
SUMMARY:Clase de guitarra para niños y niñas. Iniciación.
DESCRIPTION:Si tu hijo o hija muestra interés por la música y la guitarra\, aprovecha ese impulso para desarrollar su instinto creativo y artístico.\n\nA través de la clase de guitarra para niños y niñas somos capaces de expresar emociones\, desarrollar la creatividad y comunicarnos a través de la música de una forma diferente. \nMi función como educador es aceptar al niño tal y cómo es\, acompañándolo en su búsqueda de la excelencia y rodeándolo de oportunidades para que llegue por si solo a ella. \nPor eso\, les muestro diferentes formas de tocar la guitarra y veo cuales son sus pasiones\, ya que cada niño tiene inquietudes diferentes; hay a quienes les apasiona músicalizar cuentos\, a otros les gusta tocar canciones conocidas\, otros son fanáticos del ritmo… Pero una vez lo he descubierto y he generado un vínculo de confianza\, les voy proponiendo retos\,  que con paciencia y ternura se superan\, haciéndoles ser unos músicos más completos y felices. \nLos niños de hoy en día necesitan más que nunca desarrollar la creatividad\, el ingenio y la capacidad de adaptarse a los cambios con naturalidad. \nY eso es lo que potencio en mis clases de guitarra para niños y niñas en grupo: propongo un espacio en el que además de aprender a tocar la guitarra\, el aprendizaje se desarrolle en un entorno de creatividad y juego\, de gestión de las emociones y amor por el arte. \nLas clases en grupo son muy divertidas\, no lo digo yo lo dice Luis de 9 años… \n“Antes de empezar con Carlos había dado unas poquitas clases con otro profesor\, me sentía que no sabía mucho pero ahora me encanta tocar la guitarra porque se me da bien y me siento más seguro. Recomiendo las clases de Carlos porque son muy divertidas y con sus trucos y sus maneras de enseñar es muy fácil aprender a tocar la guitarra” \n¿Cuándo\, dónde y cuánto? \n\nLas clase de guitarra para niños y niñas se imparten los Miércoles de 18:00 a 19:00 en C/Pamplona 59  (Metro Estrecho/Franco Rodríguez) y el precio es de 75 euros al mes. \n¿Qué incluye?\n\n\nIncluye el material en audio y escrito que reparto en clase\, atención telefónica de lunes a viernes de 9:00 a 21:00 para que preguntes tus dudas y un canal de Youtube privado donde os voy colgando el material visto en clase para que así que podáis ir repasando durante la semana. \n Y un encuentro online de todos mis alumnos/as un domingo por la tarde al mes donde pueden preguntar cualquier duda y abordaremos diferentes temas de la guitarra y la música. Además de tratar las técnicas de estudio para que cada vez seas más eficaz al practicar en  casa. \n\nAnímate a tocar la guitarra e inscríbete aquí \nPD: Si quieres leer más  sobre las clases para niños y niñas aquí \nPD: Si quieres ver los testimonios de los alumnos/as de las clases pincha aquí \n 
URL:https://carlosdominguezmusic.com/eventos/clase-de-guitarra-para-ninos-y-ninas-iniciacion-unete/
LOCATION:Madrid
ATTACH;FMTTYPE=image/png:https://carlosdominguezmusic.com/wp-content/uploads/2021/07/cartel_web_ninos_iniciacion-e1627453709760.png
END:VEVENT
BEGIN:VEVENT
DTSTART;TZID=UTC:20211006T193000
DTEND;TZID=UTC:20211006T210000
DTSTAMP:20260426T040157
CREATED:20210725T121146Z
LAST-MODIFIED:20210926T180559Z
UID:1419-1633548600-1633554000@carlosdominguezmusic.com
SUMMARY:Clases de guitarra de iniciación en Atocha.¡Únete!
DESCRIPTION: Las clases de guitarra de iniciación empezamos desde el nivel cero\, y empezando a tocar\, cantar e improvisar desde el primer día\, porque si es a donde quieres llegar\, ¿porque no empezar ya así?. \n¿Que vas a aprender? \nAprenderás acordes\, consejos para cambiarlos facilmente\, a cómo usar la mano rítmica\, juegos rítmicos para tomar conciencia del ritmo y nos iniciamos en las técnicas de la guitarra cómo el arpegio y el punteo para tocar melodías. \nAprenderás a improvisar y a entender cómo funciona la música\, para que así te sea más fácil memorizar las canciones y poder sacar canciones de oído\, que también lo aprenderás. \nEn 9 meses vas a sentir la guitarra y la música de una manera que ni te imaginas\, ya lo verás. \n¿Cuándo\, dónde\, y cuánto?\nLas clases de guitarra de iniciación se imparten los Miércoles de 19:30:00 a 21:00 en Calle Rafael de riego 8 (metro Atocha)y el precio es de 90 euros al mes. \n¿Qué incluye?\nIncluye el material en audio y escrito que reparto en clase\, atención telefónica de lunes a viernes de 9:00 a 21:00 para que preguntes tus dudas y un canal de Youtube privado donde os voy colgando el material visto en clase para que así que podáis ir repasando durante la semana. \n Y un encuentro online de una hora y media con todos mis alumnos/as un domingo por la tarde al mes donde podréis preguntar cualquier duda y abordaremos diferentes temas de la guitarra y la música\, para poder resolver cualquier duda externa a las clases\, además de tratar las técnicas de estudio para que cada vez seas más eficaz al practicar en  casa. \n\nAnímate a tocar la guitarra e inscríbete aquí \nPD: Si quieres leer más  sobre las clases en grupo aquí \nPD: Si quieres ver los testimonios de los alumnos/as de las clases pincha aquí
URL:https://carlosdominguezmusic.com/eventos/clases-de-guitarra-de-iniciacion-atocha-unete/
LOCATION:Pandora´s vox. Metro Atocha/Palos de la Frontera\, Calle de Rafael de Riego\, 8\, Madrid\, Madrid\, 28045\, España
CATEGORIES:Clase de guitarra en grupo
ATTACH;FMTTYPE=image/png:https://carlosdominguezmusic.com/wp-content/uploads/2021/07/cartel_web_iniciacion_pandora-e1627551346393.png
END:VEVENT
END:VCALENDAR